BEGIN:VCALENDAR
VERSION:2.0
PRODID:-//Sbor SCEAV Třanovice - ECPv5.4.0.2//NONSGML v1.0//EN
CALSCALE:GREGORIAN
METHOD:PUBLISH
X-WR-CALNAME:Sbor SCEAV Třanovice
X-ORIGINAL-URL:https://tranovice.sceav.cz
X-WR-CALDESC:Akce na Sbor SCEAV Třanovice
BEGIN:VTIMEZONE
TZID:Europe/Paris
BEGIN:DAYLIGHT
TZOFFSETFROM:+0100
TZOFFSETTO:+0200
TZNAME:CEST
DTSTART:20260329T010000
END:DAYLIGHT
BEGIN:STANDARD
TZOFFSETFROM:+0200
TZOFFSETTO:+0100
TZNAME:CET
DTSTART:20261025T010000
END:STANDARD
END:VTIMEZONE
BEGIN:VEVENT
DTSTART;TZID=Europe/Paris:20260425T160000
DTEND;TZID=Europe/Paris:20260425T180000
DTSTAMP:20260425T141149
CREATED:20260419T121139Z
LAST-MODIFIED:20260419T121139Z
UID:13918-1777132800-1777140000@tranovice.sceav.cz
SUMMARY:Setkání žen a dívek
DESCRIPTION:V sobotu 25.4 v 16h proběhne v našem sborovém sále setkání žen a dívek. Téma: Hagar – Bůh se s Tebou chce setkat i v Tvé bolesti\, Host: Pája Sztefková.
URL:https://tranovice.sceav.cz/akce/setkani-zen-a-divek/
LOCATION:SCEAV Třanovice\, Třanovice 91\, 73953\, Česká republika
ATTACH;FMTTYPE=image/jpeg:https://tranovice.sceav.cz/wp-content/uploads/2025/10/setkani-zen.jpeg
END:VEVENT
END:VCALENDAR